BEGIN:VCALENDAR
VERSION:2.0
PRODID:-//Megbeszéljük. Kapcsolatok, könnyebben. - ECPv6.15.11//NONSGML v1.0//EN
CALSCALE:GREGORIAN
METHOD:PUBLISH
X-WR-CALNAME:Megbeszéljük. Kapcsolatok, könnyebben.
X-ORIGINAL-URL:https://megbeszeljuk.hu
X-WR-CALDESC:Események Megbeszéljük. Kapcsolatok, könnyebben.
REFRESH-INTERVAL;VALUE=DURATION:PT1H
X-Robots-Tag:noindex
X-PUBLISHED-TTL:PT1H
BEGIN:VTIMEZONE
TZID:UTC
BEGIN:STANDARD
TZOFFSETFROM:+0000
TZOFFSETTO:+0000
TZNAME:UTC
DTSTART:20250101T000000
END:STANDARD
END:VTIMEZONE
BEGIN:VEVENT
DTSTART;TZID=UTC:20260218T120000
DTEND;TZID=UTC:20260218T143000
DTSTAMP:20260423T020742
CREATED:20250405T142324Z
LAST-MODIFIED:20260105T133342Z
UID:1472-1771416000-1771425000@megbeszeljuk.hu
SUMMARY:Túlélőkészlet szülőknek a digitális neveléshez: neurodivergens gyerekek\, figyelem és érzelemszabályozás
DESCRIPTION:2 x 2\,5 órás szülőknek szóló\, online műhely Bacsó Flórával és Jantek Gyöngyvérrel\n \n\n\n2026. 02.18. és 03.04. 12:00-14:30\, Zoom alkalmazáson\n\n\n \nMIRŐL LESZ SZÓ?\n\nA gyereked érzékenyebb\, gyakran keveredik “érzelmi viharba”\, könnyebben kibillen\, főleg\, ha telefon\, tablet kerül a kezébe. Úgy érzed\, hogy csak ezzel “nyugszik meg”\, folyamatos küzdelem\, hogy mikor és mennyit használhatja a kütyüket. Lehet\, hogy van valamilyen diagnózisa (pl. autizmus spektrum zavar vagy ADHD)\, vagy tudod\, hogy másképp fejlődik\, éretlenebb az idegrendszere. Az is lehet\, hogy fogalmad sincs\, mi okozza a nehézségeiteket\, de tapasztalod őket a hétköznapokban. \nTe pedig azt hallod\, hogy milyen fontos a következetesség\, a szülői minta\, meg hogy milyen káros egy bizonyos szint felett\, de hol van ez a szint? Hogy legyél következetes\, amikor a mindennapi helyzetek változók és néha kiszámíthatatlanok? Hogyan szabhatunk életszerű\, a mindennapokat szolgáló szabályokat? Hol lehet érdemes rugalmasságot vinni a szabályokba? Hol érdemes kitartani és miből tudunk engedni? \nEz a 2×2\,5 órás online\, szülőknek szóló műhelymunka ehhez ad fogódzókat. A tavalyi tapasztalatok alapján kibővítettük és még interaktívabbá tettük programunkat\, hogy valóban elmélyedhess a témában\, és titeket támogató gyakorlati eszközökkel térhess vissza a családi mindennapokba. \nMI TÖRTÉNIK EZEN A 2×2\,5 órás WORKSHOPON?\nNaprakész információkat kaphatsz neurodiverz gyerekek és képernyőhasználat témában\, nem gerjesztve tovább a szülői bűntudatot\, hiszen abból indulunk ki\, minden szülő a legjobbat szeretné a gyerekének. \n\n\nMegalapozzuk a tudásotokat a figyelem és érzelemszabályozás fejlődésére fókuszálva\, hogy értsétek a gyakorlati ötletek és tanácsok hátterét is – ez adja majd a rugalmasságot nektek a hétköznapokban. \n\n\nMegoszthatod saját élményeidet elfogadó környezetben\, sorstársaid között: azt is\, ami nehéz\, és azt is\, ami jól megy. \n\n\nPáros és kiscsoportos gyakorlatok segítségével támogatunk abban\, hogy megértsd\, hogyan hatnak a digitális eszközök a gyereked fejlődésére\, és ennek mentén összerakhass egy családodra szabott képernyő-protokollt\, ami igazodik a lehetőségeitekhez\, és van benne rugalmasság\, hiszen tudjuk\, hogy ezeket a szabályokat nem tudjuk több évre előre kőbe vésni\, ahogyan változnak az elérhető tartalmak\, appok\, és a gyerekeink életkora\, családtagjaink szükségletei. \n\n\nElhozhatod a kérdésedet\, amelyre a csoportvezetők válaszolnak. \n\n\n\n\nKIK TARTJÁK A MŰHELYMUNKÁT?\nBacsó Flóra pedagógus\, Kapcsolódó Nevelés oktató\, konfliktuskezelési szakember\, képzésben lévő családterapeuta \nJantek Gyöngyvér klinikai szakpszichológus\, család-\, és sématerapeuta jelölt\, \nmindketten gyakorló szülők. \nHOL\, MIKOR\, MENNYIÉRT?\n2026. 02.18. és 03.04. 12:00-14:30 \n\nA két alkalom egymásra épül\, folytatólagosan.\nA két műhelymunka online\, kiscsoportban\, Zoomon zajlik\, díja 25.000 Ft/fő\nMivel a műhelymunka interaktív\, és fontos\, hogy be merd hozni a saját kérdéseidet\, a résztvevők maximális létszáma 20 fő. A csoport minimum 16 fővel indul.\n\nHOGYAN TUDOK JELENTKEZNI?\nEnnek az űrlapnak a kitöltésével\, illetve a műhely díjának befizetésével: \nJELENTKEZÉSI LAP  \n2026.02.10-ig tudod lemondani díjvisszafizetés ellenében az alkalmakat\, ennél későbbi lemondás esetén sajnos nem tudsz elállni a vásárlásodtól – de bárkire átruházhatod a részvételi lehetőséget. \nHa bármi kérdésed van\, írj nekünk: jantek.gyongyver@gmail.com
URL:https://megbeszeljuk.hu/event/tulelokeszlet-digitalis-neveles-neurodivergens-gyerekek-figyelem-es-erzelemszabalyozas/
LOCATION:Zoom alkalmazás\, Magyarország
ORGANIZER;CN="Bacs%C3%B3 Fl%C3%B3ra":MAILTO:flora@megbeszeljuk.hu
END:VEVENT
END:VCALENDAR