BEGIN:VCALENDAR
VERSION:2.0
PRODID:-//Megbeszéljük. Kapcsolatok, könnyebben. - ECPv6.15.11//NONSGML v1.0//EN
CALSCALE:GREGORIAN
METHOD:PUBLISH
X-WR-CALNAME:Megbeszéljük. Kapcsolatok, könnyebben.
X-ORIGINAL-URL:https://megbeszeljuk.hu
X-WR-CALDESC:Események Megbeszéljük. Kapcsolatok, könnyebben.
REFRESH-INTERVAL;VALUE=DURATION:PT1H
X-Robots-Tag:noindex
X-PUBLISHED-TTL:PT1H
BEGIN:VTIMEZONE
TZID:UTC
BEGIN:STANDARD
TZOFFSETFROM:+0000
TZOFFSETTO:+0000
TZNAME:UTC
DTSTART:20250101T000000
END:STANDARD
END:VTIMEZONE
BEGIN:VEVENT
DTSTART;TZID=UTC:20260331T120000
DTEND;TZID=UTC:20260331T141500
DTSTAMP:20260422T225749
CREATED:20250804T095223Z
LAST-MODIFIED:20251229T154729Z
UID:1531-1774958400-1774966500@megbeszeljuk.hu
SUMMARY:Kapcsolódó Nevelés online szülőcsoport neurodivergens gyereket nevelő szülőknek\, 6. alkalom
DESCRIPTION: Zizeg\, zajt kelt\, elfelejti\, kiborítja\, beszél\, beszél\, beszél\, forgószél\, gyorsan csináld Anya\, már nem is kell\, nagyon fontos\, elfelejtettem\, nem akarom megcsinálni\, nem tudom megcsinálni\, jaj mi lesz most\, már megint nem aludtam jól\, megint írtak valamit a suliból.\n\n\n\nKülönleges érdeklődési témákban való vég nélküli elmélyedés\, feszültségmenedzsment\, ha eltér a rutin a megszokottól\, szúr a ruha\, nem vagyok éhes\, nagyon éhes vagyok\, ez nem finom\, csak ezt eszem\, nem megyek sehova\, biztonság mindenek előtt.\n\nNálunk nem működnek a hagyományos eszközök\, mégis mit próbáljak ki még?\n\n Hogyan segítsek neki\, hogy megértse\, amikor túlpörgött\, hogy megcsinálja a házit\, hogy pakoljon el\, hogy letegye a telefont\nHogyan teremtsek szigeteket\, amelyekre kiúszhatunk – együtt vagy külön – megpihenni\, töltődni\, amikor semmi sem működik?\nHogyan segítsek magamnak\, hogy legyen elég erőm és empátiát és vissza tudjam tölteni magam\, amikor elfogyok\nMár van diagnózisotok vagy csak egy sejtés\, nagyon erős megérzés\, hogy neurodivergens a gyereked.\nImádod és zsigerig kifáradsz\, olvasol szakembereket és hasonló cipőben járó szülőket\, vajon ki hogyan éli túl a napokat. Rengeteg mindent tudsz\, de van\, hogy úgy érzed\, a hajadra kenheted. Időről időre elfogysz.\n\nVeled vagyok\, ez épp ennyire nehéz\, mint amilyennek érzed. Akkor is\, ha rajongva szereted a valóban csodálatos gyerekedet\, és látod\, hogy neki is nehéz.\n\n A nehéz érzések pedig utat törnek maguknak\, sokszor kontrollálatlanul\, kifakadunk\, összeveszünk\, kimerülünk.\n Támogatásra van szükségünk\, hogy változást indíthassunk el a családunkban\, hogy többször éljük meg\, hogy olyan szülők vagyunk\, amilyennek szívesen látnánk magunkat.\nMűködő\, egyszerűen bevezethető\, a családunkra szabható módszerekre van szükségünk.\nEbben segít most ez a 6 alkalmas online szülőcsoport\, ahol a Kapcsolódó Nevelés eszközöket neurodivergens családokra alakítva sajátíthatod el.\n\nKI TARTJA A 6 ALKALMAS ONLINE SZÜLŐCSOPORTOT? \nBacsó Flóra vagyok\, Kapcsolódó Nevelés oktató\, konfliktuskezelési szakember\, pedagógus\, képzésben levő csaladterapeuta\, pszichológus hallgató. Nem sok türelemmel születtem\, de sok tapasztalatot szereztem arról\, hogy a hétköznapi\, természetes kapcsolódási lehetőségekből formált módszerekkel és támogatással nagy változásokat lehet elérni\, és több örömteli szigetet teremteni a mindennapjainkban. \nMI TÖRTÉNIK AZ ONLINE SZÜLŐCSOPORTON?\n\nBeszélünk az érzelmek és a neurodivergens működések kölcsönhatásairól – a megértés már önmagában is sokszor feszültségcsökkentő\nKipróbálunk és gyakorolunk egy saját magunk támogatására szolgáló módszert – a páros meghallgatást\, amit magaddal vihetsz és beépítheted a  mentális épséged megőrzése érdekében.\n Konkrét\, ADHD-ban és autizmusban érintett gyerekek és szülők példáin\, történetein keresztül nyerhetsz betekintést a Kapcsolódó Nevelés eszközeibe\, amelyek a hatékony kapcsolódást és határszabást elősegítő módszerek és eszközök. Hétről hétre kipróbálhatod a tanultakat\, egy alkalommal egy eszközt tanulunk\, és minden alkalommal lesz támogató csoport és kérdezz-felelek\, finomhangolás. Megkapod a klasszikus eszközöket tartalmazó online tudástárat.\n\nHozd el a kérdéseidet\, saját példáidat\, és megnézzük\, nálatok mit lehet még érdemes kipróbálni – mert minden család és helyzet picit más. A hatodik\, utolsó alkalommal integráljuk az eddig megszerzett tudást\, megnézzük\, hogyan dolgoznak össze az eszközök\, ha együtt használjuk őket\, jöhetnek a fogós kérdések\, és természetesen a támogató csoport sem maradhat ki.
URL:https://megbeszeljuk.hu/event/kapcsolodo-neveles-online-szulocsoport-neurodivergens-gyereket-nevelo-szuloknek-6-alkalom/
END:VEVENT
END:VCALENDAR