BEGIN:VCALENDAR
VERSION:2.0
PRODID:-//Megbeszéljük. Kapcsolatok, könnyebben. - ECPv6.15.11//NONSGML v1.0//EN
CALSCALE:GREGORIAN
METHOD:PUBLISH
X-ORIGINAL-URL:https://megbeszeljuk.hu
X-WR-CALDESC:Események Megbeszéljük. Kapcsolatok, könnyebben.
REFRESH-INTERVAL;VALUE=DURATION:PT1H
X-Robots-Tag:noindex
X-PUBLISHED-TTL:PT1H
BEGIN:VTIMEZONE
TZID:UTC
BEGIN:STANDARD
TZOFFSETFROM:+0000
TZOFFSETTO:+0000
TZNAME:UTC
DTSTART:20250101T000000
END:STANDARD
END:VTIMEZONE
BEGIN:VEVENT
DTSTART;TZID=UTC:20260423T090000
DTEND;TZID=UTC:20260423T110000
DTSTAMP:20260423T111645
CREATED:20240424T145401Z
LAST-MODIFIED:20260411T093215Z
UID:1333-1776934800-1776942000@megbeszeljuk.hu
SUMMARY:Madarak\, méhek\, orvosost játszottunk... Szexuális nevelés 0-6 éves korú gyerekek szüleinek
DESCRIPTION:  \n„Kisbaba/bölcsis/ovis a gyerekem\, van még időm átgondolni\, mit mondjak a szexről.” \nVagy mégsem?Tudtad\, hogy már a kezdetektől fogva befolyásolja a gyerekek viszonyát a saját testükhöz\, amilyen érintéseket kapnak? A pozitív érintés a fejlődés egyik motorja\, így már babakortól sokat tehetünk azért\, hogy a gyerekünknek pozitív énképe alakulhasson ki. Az örömök keresése és a világ megismerése pedig velünk született késztetések\, és ahogy nőnek a gyerekek\, már bölcsis vagy kisovis korban jönnek a kíváncsi kérdések\, kijelentések\, tevékenységek: \n\nAnya\, megnézhetem\, ahogy pisilsz?Hogyan lesz a kisbaba?\nAz oviban fütyikardoztunk!\nHa így dörzsölöm a fütyimet/puncimat a székhez\, az jó!\n\n  \nHuhh\, mit mondjak ezekre\, amivel elfogadást és jó határokat közvetítek?  A szexuális nevelés sokszor nem is közvetlenül a szexről szól\, főleg kisgyermekkorban\, hanem arról:\n\nhogyan segíthetünk egészséges testhatárokat kialakítani\,\na túlszexualizált média hatásait hogyan tudjuk ellensúlyozni jó beszélgetésekkel\,\nhogyan adhatunk életkorilag megfelelő válaszokat adni fütyi/punci/orvosos játék/hogyan lesz a kisbaba témakörökben\,\nhogyan tudjuk az önkifejezést és a sokféleség elfogadását támogatni a gyerekünk életében\, hogy majd ő maga is barátságban lehessen nagyobb korában saját magával\, a nagy változások közepette is.\n\nMivel egyre könnyebben áramlik be mindenféle korhatáros tartalom a gyerekünk életébe az interneten és a bölcsis\, ovis csoporttársakon\, nagytesókon keresztül\, fontos minél előbb korszerű információkkal felszerelkezni\, saját kérdéseinkkel\, dilemmáinkkal\, esetleges gátjainkkal\, szégyenkezésünkkel biztonságos\, elfogadó közegben találkozni és átdolgozni őket\, hogy minél magabiztosabb és nyitottabb légkört teremthessünk otthon\, amiben elférnek a húzós témák is. \nEzen a műhelymunkán azt járjuk körbe zárt csoportban: \n\n szülőként milyen hiedelmeket őrzünk arról\, mit és hogyan is mondjunk vagy ne mondjunk a szexről\,\nhogyan küzdhetjük le a saját zavarunkat a témával kapcsolatban\, \nhogyan beszéljünk őszintén\, a gyerek életkorához és befogadóképességéhez igazodva\,\nkonkrétan milyen szavak\, mondatok segítenek át az izzasztó pillanatokon\,\nmit tehetünk azért\, hogy a gyerekünk merjen hallgatni a teste jelzéseire\, különbséget tudjon tenni biztonságos és lehetségesen veszélyes helyzetek között\, és merje kommunikálni határait\, merjen és akarjon tőlünk kérdezni\n\n  \nA műhelymunka zárt csoportban\, titoktartás mellett zajlik. Gyakorlati példákon keresztül ismerjük meg a szexuális nevelés fogódzóit\, sokat fogunk nevetni\, és bármit megkérdezhettek a témában.  \n  HOL? MIKOR? MENNYIÉRT?\nA műhelymunka online\, kiscsoportban\, Zoomon zajlik\, díja 9.500 forint. Mivel a műhelymunka interaktív\, és fontos\, hogy be merd hozni a saját kérdéseidet\, a résztvevők maximális létszáma 10 fő. A csoport minimum 6 fővel indul.\nNem vesszük fel\, így garantáljuk a biztonságos légkört.   \nKI TARTJA A CSOPORTOT?  \nBacsó Flóra vagyok\, pedagógus\, Kapcsolódó Nevelés oktató\, képzésben lévő családterapeuta\, pszichológus hallgató\, traumaszenzitív megközelítésekkel dolgozó konfliktuskezelés szakember\, az ELTE Tanító- és Óvóképző Karának online szexuális nevelés kurzusát végeztem el a témában. Szülőként és szakemberként folyamatosan kapcsolatban vagyok a témával\, módszereimmel a szégyenmentes párbeszédet\, a méltányosságot\, az abúzus megelőzését és a nehéz emlékek feldolgozását segítem. \nHOGYAN TUDOK JELENTKEZNI?\nJelentkezz ezen a linken április 20-ig- és akkor is írj bátran\, ha még bizonytalan vagy és kérdésed van flora@megbeszeljuk.hu. 
URL:https://megbeszeljuk.hu/event/madarak-mehek-orvosost-jatszottunk-szexualis-neveles-0-6-eves-koru-gyerekek-szuleinek/
LOCATION:Zoom alkalmazás\, Magyarország
ORGANIZER;CN="Bacs%C3%B3 Fl%C3%B3ra":MAILTO:flora@megbeszeljuk.hu
END:VEVENT
END:VCALENDAR